BEGIN:VCALENDAR
VERSION:2.0
PRODID:-//stuntskate.de - ECPv6.15.20//NONSGML v1.0//EN
CALSCALE:GREGORIAN
METHOD:PUBLISH
X-WR-CALNAME:stuntskate.de
X-ORIGINAL-URL:https://stuntskate.de/en
X-WR-CALDESC:Events for stuntskate.de
REFRESH-INTERVAL;VALUE=DURATION:PT1H
X-Robots-Tag:noindex
X-PUBLISHED-TTL:PT1H
BEGIN:VTIMEZONE
TZID:Europe/Berlin
BEGIN:DAYLIGHT
TZOFFSETFROM:+0100
TZOFFSETTO:+0200
TZNAME:CEST
DTSTART:20240331T010000
END:DAYLIGHT
BEGIN:STANDARD
TZOFFSETFROM:+0200
TZOFFSETTO:+0100
TZNAME:CET
DTSTART:20241027T010000
END:STANDARD
BEGIN:DAYLIGHT
TZOFFSETFROM:+0100
TZOFFSETTO:+0200
TZNAME:CEST
DTSTART:20250330T010000
END:DAYLIGHT
BEGIN:STANDARD
TZOFFSETFROM:+0200
TZOFFSETTO:+0100
TZNAME:CET
DTSTART:20251026T010000
END:STANDARD
BEGIN:DAYLIGHT
TZOFFSETFROM:+0100
TZOFFSETTO:+0200
TZNAME:CEST
DTSTART:20260329T010000
END:DAYLIGHT
BEGIN:STANDARD
TZOFFSETFROM:+0200
TZOFFSETTO:+0100
TZNAME:CET
DTSTART:20261025T010000
END:STANDARD
BEGIN:DAYLIGHT
TZOFFSETFROM:+0100
TZOFFSETTO:+0200
TZNAME:CEST
DTSTART:20270328T010000
END:DAYLIGHT
BEGIN:STANDARD
TZOFFSETFROM:+0200
TZOFFSETTO:+0100
TZNAME:CET
DTSTART:20271031T010000
END:STANDARD
END:VTIMEZONE
BEGIN:VEVENT
DTSTART;TZID=Europe/Berlin:20260308T090000
DTEND;TZID=Europe/Berlin:20260308T123000
DTSTAMP:20260424T155248
CREATED:20251103T074106Z
LAST-MODIFIED:20260118T081225Z
UID:1329-1772960400-1772973000@stuntskate.de
SUMMARY:Wuppertal – Skatehalle WickedWoods (ausgebucht)
DESCRIPTION:Inline-Skaten Kurs in Wuppertal – Rampen\, Sprünge & Skatepark-Fahren lernen\nWenn dir einfach „nur“ Inline-Skaten zu langweilig ist und du dich beim Vorwärtsfahren schon sicher fühlst\, ist dieser Kurs genau das Richtige für dich!In der traditionsreichen Skatehalle WickedWoods in Wuppertal lernst du gemeinsam mit erfahrenen Trainer*innen\, wie du erste Steigungen\, Rampen\, Sprünge und Drehungen meisterst. \nWir zeigen dir den Einstieg ins „richtige“ Skatepark-Fahren – mit Rampen\, Copings\, Walls\, Bowl und Ledge. Unser Ziel: Du sollst dich sicher und mit Spaß durch den Skatepark bewegen und dein Können auf das nächste Level bringen. \nOb Anfängerin oder Fortgeschrittener – wir gehen individuell auf deine Fähigkeiten ein und helfen dir\, dein Selbstvertrauen auf den Skates zu stärken. \n👉 Tipp: Wenn du keine Stunt-Skates besitzt\, stellen wir dir kostenlos welche zur Verfügung! Gib uns einfach bei der Anmeldung kurz Bescheid. \n\n📅 Kursinformationen:\nOrt: Skatehalle WickedWoods\, Wuppertal\nKursform: Gruppenkurs (max. 15 Personen)\nGeeignet für: Anfänger*innen & Fortgeschrittene\nInhalte: Steigungen\, Rampen\, Sprünge\, Drehungen\, Flips & Grinds\nVoraussetzung: Sicheres Vorwärtsfahren\nPreis: 59\,00 € pro Termin (Bar-/Kartenzahlung vor Ort bei WickedWoods)\nAnmeldung: info@stuntskate.de oder über unser Kontaktformular \n\nℹ️ Hinweis:\nHinweis: Wir\, als StuntSkate.de verwalten die Anmeldung für die Blader Kurse der Skatehalle WickedWoods für einen direkteren und schnelleren Anmeldevorgang. Es gelten die AGBs der Skatehalle WickedWoods.
URL:https://stuntskate.de/en/kursplan/wuppertal-skatehalle-wickedwoods-4/
LOCATION:Skatehalle WickedWoods\, Langobardenstraße 65\, Wuppertal Oberbarmen\, NRW\, 42277\, Germany
END:VEVENT
BEGIN:VEVENT
DTSTART;TZID=Europe/Berlin:20260125T090000
DTEND;TZID=Europe/Berlin:20260125T123000
DTSTAMP:20260424T155248
CREATED:20251103T072308Z
LAST-MODIFIED:20260121T075052Z
UID:1321-1769331600-1769344200@stuntskate.de
SUMMARY:Wuppertal – Skatehalle WickedWoods (ausgebucht)
DESCRIPTION:Inline-Skaten Kurs in Wuppertal – Rampen\, Sprünge & Skatepark-Fahren lernen\nWenn dir einfach „nur“ Inline-Skaten zu langweilig ist und du dich beim Vorwärtsfahren schon sicher fühlst\, ist dieser Kurs genau das Richtige für dich!In der traditionsreichen Skatehalle WickedWoods in Wuppertal lernst du gemeinsam mit erfahrenen Trainer*innen\, wie du erste Steigungen\, Rampen\, Sprünge und Drehungen meisterst. \nWir zeigen dir den Einstieg ins „richtige“ Skatepark-Fahren – mit Rampen\, Copings\, Walls\, Bowl und Ledge. Unser Ziel: Du sollst dich sicher und mit Spaß durch den Skatepark bewegen und dein Können auf das nächste Level bringen. \nOb Anfängerin oder Fortgeschrittener – wir gehen individuell auf deine Fähigkeiten ein und helfen dir\, dein Selbstvertrauen auf den Skates zu stärken. \n👉 Tipp: Wenn du keine Stunt-Skates besitzt\, stellen wir dir kostenlos welche zur Verfügung! Gib uns einfach bei der Anmeldung kurz Bescheid. \n\n📅 Kursinformationen:\nOrt: Skatehalle WickedWoods\, Wuppertal\nKursform: Gruppenkurs (max. 15 Personen)\nGeeignet für: Anfänger*innen & Fortgeschrittene\nInhalte: Steigungen\, Rampen\, Sprünge\, Drehungen\, Flips & Grinds\nVoraussetzung: Sicheres Vorwärtsfahren\nPreis: 59\,00 € pro Termin (Bar-/Kartenzahlung vor Ort bei WickedWoods)\nAnmeldung: info@stuntskate.de oder über unser Kontaktformular \n\nℹ️ Hinweis:\nHinweis: Wir\, als StuntSkate.de verwalten die Anmeldung für die Blader Kurse der Skatehalle WickedWoods für einen direkteren und schnelleren Anmeldevorgang. Es gelten die AGBs der Skatehalle WickedWoods.
URL:https://stuntskate.de/en/kursplan/inline-skaten-kurs-wuppertal-rampen-spruenge-tricks-lernen-stuntskate-de/
LOCATION:Skatehalle WickedWoods\, Langobardenstraße 65\, Wuppertal Oberbarmen\, NRW\, 42277\, Germany
END:VEVENT
BEGIN:VEVENT
DTSTART;TZID=Europe/Berlin:20251130T090000
DTEND;TZID=Europe/Berlin:20251130T123000
DTSTAMP:20260424T155248
CREATED:20250426T164412Z
LAST-MODIFIED:20251103T075105Z
UID:826-1764493200-1764505800@stuntskate.de
SUMMARY:Wuppertal – Skatehalle WickedWoods (Ausgebucht)
DESCRIPTION:Wenn dir einfach „nur“ Inline-Skaten zu langweilig ist und vorwärtsfahren Fahren für dich eine Leichtigkeit ist – dann ist der Kurs definitiv das Richtige für dich. \nWir haben in einer der traditionellsten Skatehalle im Umkreis der WickedWoods\, die Möglichkeit mit dir gemeinsam die ersten Steigungen\, Rampen\, Sprünge und Drehungen zu meistern. Dabei gehen wir individuell auf deine Fähigkeiten ein und haben das Ziel\, dass du sicher durch den Skatepark heizen kannst. \nIm Fokus stehen die Anfänge für das „richtige“ Skatepark-Fahren mit Rampen\, Copings\, Walls\, Bowl und Ledge. \nWenn du keine Stunt-Skates besitzt\, du diese aber mal gerne ausprobieren möchtest\, gib uns bei Anmeldung kurz Bescheid und wir stellen dir kostenlos welche zur Verfügung. \nDu bist dir unsicher\, ob der Kurs etwas für dich ist – dann sprich uns an! \nKursform: Gruppenkurs bis ca. 12 Personen\nInhalte: Einstieg in das Stuntskaten und Erlernen der ersten Basis-Techniken und Tricks.\nVorraussetzung: Sicheres und eigenständiges Vorwärtsfahren.\nPreis: 59\,00 € je Termin (Bar-Zahlung vor Ort bei der WickedWoods)\nAnmeldung: info@stuntskate.de oder über unser Kontaktformular \nHinweis: Wir\, als StuntSkate.de verwalten die Anmeldung für die Blader Kurse der Skatehalle WickedWoods für einen direkteren und schnelleren Anmeldevorgang. Es gelten die AGBs der Skatehalle WickedWoods.
URL:https://stuntskate.de/en/kursplan/30-11-2025/
LOCATION:Skatehalle WickedWoods\, Langobardenstraße 65\, Wuppertal Oberbarmen\, NRW\, 42277\, Germany
END:VEVENT
BEGIN:VEVENT
DTSTART;TZID=Europe/Berlin:20251102T090000
DTEND;TZID=Europe/Berlin:20251102T123000
DTSTAMP:20260424T155248
CREATED:20250426T163059Z
LAST-MODIFIED:20250930T080203Z
UID:821-1762074000-1762086600@stuntskate.de
SUMMARY:Wuppertal – Skatehalle WickedWoods (Ausgebucht!)
DESCRIPTION:Wenn dir einfach „nur“ Inline-Skaten zu langweilig ist und vorwärtsfahren Fahren für dich eine Leichtigkeit ist – dann ist der Kurs definitiv das Richtige für dich. \nWir haben in einer der traditionellsten Skatehalle im Umkreis der WickedWoods\, die Möglichkeit mit dir gemeinsam die ersten Steigungen\, Rampen\, Sprünge und Drehungen zu meistern. Dabei gehen wir individuell auf deine Fähigkeiten ein und haben das Ziel\, dass du sicher durch den Skatepark heizen kannst. \nIm Fokus stehen die Anfänge für das „richtige“ Skatepark-Fahren mit Rampen\, Copings\, Walls\, Bowl und Ledge. \nWenn du keine Stunt-Skates besitzt\, du diese aber mal gerne ausprobieren möchtest\, gib uns bei Anmeldung kurz Bescheid und wir stellen dir kostenlos welche zur Verfügung. \nDu bist dir unsicher\, ob der Kurs etwas für dich ist – dann sprich uns an! \nKursform: Gruppenkurs bis ca. 12 Personen\nInhalte: Einstieg in das Stuntskaten und Erlernen der ersten Basis-Techniken und Tricks.\nVorraussetzung: Sicheres und eigenständiges Vorwärtsfahren.\nPreis: 59\,00 € je Termin (Bar-Zahlung vor Ort bei der WickedWoods)\nAnmeldung: info@stuntskate.de oder über unser Kontaktformular \nHinweis: Wir\, als StuntSkate.de verwalten die Anmeldung für die Blader Kurse der Skatehalle WickedWoods für einen direkteren und schnelleren Anmeldevorgang. Es gelten die AGBs der Skatehalle WickedWoods.
URL:https://stuntskate.de/en/kursplan/wuppertal-skatehalle-wickedwoods-3/
LOCATION:Skatehalle WickedWoods\, Langobardenstraße 65\, Wuppertal Oberbarmen\, NRW\, 42277\, Germany
END:VEVENT
BEGIN:VEVENT
DTSTART;TZID=Europe/Berlin:20250921T100000
DTEND;TZID=Europe/Berlin:20250921T130000
DTSTAMP:20260424T155248
CREATED:20250426T172012Z
LAST-MODIFIED:20250920T200552Z
UID:843-1758448800-1758459600@stuntskate.de
SUMMARY:Dortmund – Skatepark Hombruch (Abgesagt!)
DESCRIPTION:In einem der größten Skateparks Deutschlands haben wir gemeinsam die perfekten Vorraussetzungen\, um alles mögliche auf den Stuntskates zu lernen.\nDer 2022 eröffnete Skatepark in Dortmund Hombruch bietet neben drei verschieden Bowls/Pools\, einen großen Streetbereich und einen Pumptrack.\nEin anliegender kleiner Park bietet hier die perfekten Möglichkeiten\, um sich richtig warm zu machen.  \nGemeinsam meistern wir hier erste Steigungen\, Rampen\, Sprünge und Drehungen. Dabei gehen wir individuell auf dein Level ein – egal\, ob du gerade erst loslegst oder deine Skills aufs nächste Level bringen willst. Unser Ziel: Du sollst dich sicher und frei im Park bewegen und mit jeder Session ein Stück mehr über dich hinauswachsen.  \nWenn du keine Stunt-Skates besitzt\, du diese aber mal gerne ausprobieren möchtest\, gib uns bei Anmeldung kurz Bescheid und wir stellen dir kostenlos welche zur Verfügung.   \nDu bist dir unsicher\, ob der Kurs etwas für dich ist – dann sprich uns an!   \nKursform: Gruppenkurs bis ca. 12 Personen\nInhalte: Einstieg in das Stuntskaten und Erlernen der ersten Basis-Techniken und Tricks.\nVorraussetzung: Sicheres und eigenständiges Vorwärtsfahren.\nPreis: 25\,00 € je Termin\nAnmeldung:  info@stuntskate.de oder über unser Kontaktformular  \nMelde dich jetzt an und erlebe einen unvergesslichen Tag auf Skates! \n 
URL:https://stuntskate.de/en/kursplan/dortmund-skatepark-hombruch-2/
LOCATION:Dortmund – Skatepark Hombruch\, Kieferstraße 32\, Dortmund\, NRW\, 44225\, Germany
END:VEVENT
BEGIN:VEVENT
DTSTART;TZID=Europe/Berlin:20250914T100000
DTEND;TZID=Europe/Berlin:20250914T120000
DTSTAMP:20260424T155248
CREATED:20250506T112601Z
LAST-MODIFIED:20250506T112601Z
UID:1046-1757844000-1757851200@stuntskate.de
SUMMARY:Hückelhoven - „Halden Heights“
DESCRIPTION:Wenn dir einfach „nur“ Inline-Skaten zu langweilig ist und vorwärtsfahren Fahren für dich eine Leichtigkeit ist – dann ist der Kurs definitiv das Richtige für dich.  \nDer „Halden Heights“ ist ein moderner Jugend- und Sportpark in Hückelhoven\, Nordrhein-Westfalen\, Auf rund 4.000 Quadratmetern Fläche bietet die Anlage vielfältige Möglichkeiten für sportliche Aktivitäten. \nGemeinsam meistern wir hier erste Steigungen\, Rampen\, Sprünge und Drehungen. Dabei gehen wir individuell auf dein Level ein – egal\, ob du gerade erst loslegst oder deine Skills aufs nächste Level bringen willst. Unser Ziel: Du sollst dich sicher und frei im Park bewegen und mit jeder Session ein Stück mehr über dich hinauswachsen. \nWenn du keine Stunt-Skates besitzt\, du diese aber mal gerne ausprobieren möchtest\, gib uns bei Anmeldung kurz Bescheid und wir stellen dir kostenlos welche zur Verfügung.  \nDu bist dir unsicher\, ob der Kurs etwas für dich ist – dann sprich uns an!  \nKursform: Gruppenkurs bis ca. 10 Personen\nInhalte: Der Kurs richtet sich an Anfänger*innen und leicht Fortgeschrittene.\nVorraussetzung: Sicheres und eigenständiges Vorwärtsfahren.\nPreis: Der Eigenanteil beträgt 5\,00 € je Termin. \nAnmeldung: info@stuntskate.de oder über unser Kontaktformular 
URL:https://stuntskate.de/en/kursplan/hueckelhoven-halden-heights-5/
LOCATION:Hückelhoven – „Halden Heights“\, Am Landabsatz 10\, Hückelhoven\, NRW\, 41836\, Germany
END:VEVENT
BEGIN:VEVENT
DTSTART;TZID=Europe/Berlin:20250907T090000
DTEND;TZID=Europe/Berlin:20250907T123000
DTSTAMP:20260424T155248
CREATED:20250426T162258Z
LAST-MODIFIED:20250711T092000Z
UID:818-1757235600-1757248200@stuntskate.de
SUMMARY:Wuppertal – Skatehalle WickedWoods (Keine freien Plätze mehr)
DESCRIPTION:Wenn dir einfach „nur“ Inline-Skaten zu langweilig ist und vorwärtsfahren Fahren für dich eine Leichtigkeit ist – dann ist der Kurs definitiv das Richtige für dich. \nWir haben in einer der traditionellsten Skatehalle im Umkreis der WickedWoods\, die Möglichkeit mit dir gemeinsam die ersten Steigungen\, Rampen\, Sprünge und Drehungen zu meistern. Dabei gehen wir individuell auf deine Fähigkeiten ein und haben das Ziel\, dass du sicher durch den Skatepark heizen kannst. \nIm Fokus stehen die Anfänge für das „richtige“ Skatepark-Fahren mit Rampen\, Copings\, Walls\, Bowl und Ledge. \nWenn du keine Stunt-Skates besitzt\, du diese aber mal gerne ausprobieren möchtest\, gib uns bei Anmeldung kurz Bescheid und wir stellen dir kostenlos welche zur Verfügung. \nDu bist dir unsicher\, ob der Kurs etwas für dich ist – dann sprich uns an! \nKursform: Gruppenkurs bis ca. 12 Personen\nInhalte: Einstieg in das Stuntskaten und Erlernen der ersten Basis-Techniken und Tricks.\nVorraussetzung: Sicheres und eigenständiges Vorwärtsfahren.\nPreis: 59\,00 € je Termin (Bar-Zahlung vor Ort bei der WickedWoods)\nAnmeldung: info@stuntskate.de oder über unser Kontaktformular \nHinweis: Wir\, als StuntSkate.de verwalten die Anmeldung für die Blader Kurse der Skatehalle WickedWoods für einen direkteren und schnelleren Anmeldevorgang. Es gelten die AGBs der Skatehalle WickedWoods.
URL:https://stuntskate.de/en/kursplan/wuppertal-skatehalle-wickedwoods-2/
LOCATION:Skatehalle WickedWoods\, Langobardenstraße 65\, Wuppertal Oberbarmen\, NRW\, 42277\, Germany
END:VEVENT
BEGIN:VEVENT
DTSTART;TZID=Europe/Berlin:20250817T100000
DTEND;TZID=Europe/Berlin:20250817T120000
DTSTAMP:20260424T155248
CREATED:20250506T112436Z
LAST-MODIFIED:20250506T112436Z
UID:1044-1755424800-1755432000@stuntskate.de
SUMMARY:Hückelhoven - „Halden Heights“
DESCRIPTION:Wenn dir einfach „nur“ Inline-Skaten zu langweilig ist und vorwärtsfahren Fahren für dich eine Leichtigkeit ist – dann ist der Kurs definitiv das Richtige für dich.  \nDer „Halden Heights“ ist ein moderner Jugend- und Sportpark in Hückelhoven\, Nordrhein-Westfalen\, Auf rund 4.000 Quadratmetern Fläche bietet die Anlage vielfältige Möglichkeiten für sportliche Aktivitäten. \nGemeinsam meistern wir hier erste Steigungen\, Rampen\, Sprünge und Drehungen. Dabei gehen wir individuell auf dein Level ein – egal\, ob du gerade erst loslegst oder deine Skills aufs nächste Level bringen willst. Unser Ziel: Du sollst dich sicher und frei im Park bewegen und mit jeder Session ein Stück mehr über dich hinauswachsen. \nWenn du keine Stunt-Skates besitzt\, du diese aber mal gerne ausprobieren möchtest\, gib uns bei Anmeldung kurz Bescheid und wir stellen dir kostenlos welche zur Verfügung.  \nDu bist dir unsicher\, ob der Kurs etwas für dich ist – dann sprich uns an!  \nKursform: Gruppenkurs bis ca. 10 Personen\nInhalte: Der Kurs richtet sich an Anfänger*innen und leicht Fortgeschrittene.\nVorraussetzung: Sicheres und eigenständiges Vorwärtsfahren.\nPreis: Der Eigenanteil beträgt 5\,00 € je Termin. \nAnmeldung: info@stuntskate.de oder über unser Kontaktformular 
URL:https://stuntskate.de/en/kursplan/hueckelhoven-halden-heights-4/
LOCATION:Hückelhoven – „Halden Heights“\, Am Landabsatz 10\, Hückelhoven\, NRW\, 41836\, Germany
END:VEVENT
BEGIN:VEVENT
DTSTART;TZID=Europe/Berlin:20250814T170000
DTEND;TZID=Europe/Berlin:20250814T190000
DTSTAMP:20260424T155248
CREATED:20250605T154438Z
LAST-MODIFIED:20250606T092806Z
UID:1121-1755190800-1755198000@stuntskate.de
SUMMARY:Skatepark Moers (Hülsdonk)
DESCRIPTION:Der neue Skatepark im Moerser Stadtteil Hülsdonk gehört zu den modernsten und größten Anlagen in ganz NRW. Auf rund 3.000 m² bietet er jede Menge Platz für Skater:innen\, BMX-Fans\, Scooter- und Inlinefahrer:innen – vom Einsteiger bis zum Profi. \nMit vielfältigen Obstacles\, Street- und Park-Elementen sowie der größten Skatebowl in Nordrhein-Westfalen ist der Skatepark der perfekte Ort für Training\, Tricks und Treffpunkt mit der Community. \nOb du deine ersten Runden drehst oder anspruchsvolle Lines fährst – hier bist du genau richtig. \nEckdaten\nOrt: Skatepark Moers Hülsdonk (im Schlosspark Moers)\nAnreise: Krefelder Straße 95\, 47441 Moers\nZeit: 14.08.2025 von 17:00-19:00 Uhr\nKursform: Gruppenkurs bis 10 Personen\nInhalte: Der Kurs richtet sich an Anfänger*innen und Fortgeschrittene.\nVorraussetzung: Sicheres und eigenständiges Vorwärtsfahren.\nPreis: Die Teilnahme ist kostenlos. Die Kosten übernimmt die Streetbox Moers.\nAnmeldung:  info@stuntskate.de oder über unser Kontaktformular \nMelde dich jetzt an und erlebe einen unvergesslichen Tag auf Skates! \n  \nKein eigene Stunt Skates?\nKein Problem!\nAuf Anfrage stellen wir kostenlos spezielle Stunt-Inlineskates zur Verfügung\, die perfekt auf den Skatepark abgestimmt sind. \n👉 Wenn du Leihskates nutzen möchtest\, teile uns bitte bei der Anmeldung deine Schuhgröße mit.
URL:https://stuntskate.de/en/kursplan/skatepark-moers-huelsdonk-2/
LOCATION:Hülsdonk – Skatepark Moers\, Krefelder Straße 95\, Moers\, 47441
END:VEVENT
BEGIN:VEVENT
DTSTART;TZID=Europe/Berlin:20250725T160000
DTEND;TZID=Europe/Berlin:20250725T180000
DTSTAMP:20260424T155248
CREATED:20250605T154123Z
LAST-MODIFIED:20250605T154514Z
UID:1115-1753459200-1753466400@stuntskate.de
SUMMARY:Skatepark Moers (Hülsdonk)
DESCRIPTION:Der neue Skatepark im Moerser Stadtteil Hülsdonk gehört zu den modernsten und größten Anlagen in ganz NRW. Auf rund 3.000 m² bietet er jede Menge Platz für Skater:innen\, BMX-Fans\, Scooter- und Inlinefahrer:innen – vom Einsteiger bis zum Profi. \nMit vielfältigen Obstacles\, Street- und Park-Elementen sowie der größten Skatebowl in Nordrhein-Westfalen ist der Skatepark der perfekte Ort für Training\, Tricks und Treffpunkt mit der Community. \nOb du deine ersten Runden drehst oder anspruchsvolle Lines fährst – hier bist du genau richtig. \nEckdaten\nOrt: Skatepark Moers Hülsdonk (im Schlosspark Moers)\nAnreise: Krefelder Straße 95\, 47441 Moers\nZeit: 25.07.2025 von 16:00-18:00 Uhr\nKursform: Gruppenkurs bis 10 Personen\nInhalte: Der Kurs richtet sich an Anfänger*innen und Fortgeschrittene.\nVorraussetzung: Sicheres und eigenständiges Vorwärtsfahren.\nPreis: Die Teilnahme ist kostenlos. Die Kosten übernimmt die Streetbox Moers.\nAnmeldung:  info@stuntskate.de oder über unser Kontaktformular \nMelde dich jetzt an und erlebe einen unvergesslichen Tag auf Skates! \n  \nKein eigene Stunt Skates?\nKein Problem!\nAuf Anfrage stellen wir kostenlos spezielle Stunt-Inlineskates zur Verfügung\, die perfekt auf den Skatepark abgestimmt sind. \n👉 Wenn du Leihskates nutzen möchtest\, teile uns bitte bei der Anmeldung deine Schuhgröße mit.
URL:https://stuntskate.de/en/kursplan/skatepark-moers-huelsdonk/
LOCATION:Hülsdonk – Skatepark Moers\, Krefelder Straße 95\, Moers\, 47441
CATEGORIES:Skatekurs
END:VEVENT
BEGIN:VEVENT
DTSTART;TZID=Europe/Berlin:20250719T100000
DTEND;TZID=Europe/Berlin:20250719T130000
DTSTAMP:20260424T155248
CREATED:20250426T171839Z
LAST-MODIFIED:20250426T172402Z
UID:841-1752919200-1752930000@stuntskate.de
SUMMARY:Dortmund – Skatepark Hombruch
DESCRIPTION:In einem der größten Skateparks Deutschlands haben wir gemeinsam die perfekten Vorraussetzungen\, um alles mögliche auf den Stuntskates zu lernen.\nDer 2022 eröffnete Skatepark in Dortmund Hombruch bietet neben drei verschieden Bowls/Pools\, einen großen Streetbereich und einen Pumptrack.\nEin anliegender kleiner Park bietet hier die perfekten Möglichkeiten\, um sich richtig warm zu machen.  \nGemeinsam meistern wir hier erste Steigungen\, Rampen\, Sprünge und Drehungen. Dabei gehen wir individuell auf dein Level ein – egal\, ob du gerade erst loslegst oder deine Skills aufs nächste Level bringen willst. Unser Ziel: Du sollst dich sicher und frei im Park bewegen und mit jeder Session ein Stück mehr über dich hinauswachsen.  \nWenn du keine Stunt-Skates besitzt\, du diese aber mal gerne ausprobieren möchtest\, gib uns bei Anmeldung kurz Bescheid und wir stellen dir kostenlos welche zur Verfügung.   \nDu bist dir unsicher\, ob der Kurs etwas für dich ist – dann sprich uns an!   \nKursform: Gruppenkurs bis ca. 12 Personen\nInhalte: Einstieg in das Stuntskaten und Erlernen der ersten Basis-Techniken und Tricks.\nVorraussetzung: Sicheres und eigenständiges Vorwärtsfahren.\nPreis: 25\,00 € je Termin\nAnmeldung:  info@stuntskate.de oder über unser Kontaktformular  \nMelde dich jetzt an und erlebe einen unvergesslichen Tag auf Skates! \n 
URL:https://stuntskate.de/en/kursplan/dortmund-skatepark-hombruch/
LOCATION:Dortmund – Skatepark Hombruch\, Kieferstraße 32\, Dortmund\, NRW\, 44225\, Germany
END:VEVENT
BEGIN:VEVENT
DTSTART;TZID=Europe/Berlin:20250713T100000
DTEND;TZID=Europe/Berlin:20250713T120000
DTSTAMP:20260424T155248
CREATED:20250506T112108Z
LAST-MODIFIED:20250623T082050Z
UID:1042-1752400800-1752408000@stuntskate.de
SUMMARY:Hückelhoven - „Halden Heights“ (Keine freien Plätze mehr)
DESCRIPTION:Wenn dir einfach „nur“ Inline-Skaten zu langweilig ist und vorwärtsfahren Fahren für dich eine Leichtigkeit ist – dann ist der Kurs definitiv das Richtige für dich.  \nDer „Halden Heights“ ist ein moderner Jugend- und Sportpark in Hückelhoven\, Nordrhein-Westfalen\, Auf rund 4.000 Quadratmetern Fläche bietet die Anlage vielfältige Möglichkeiten für sportliche Aktivitäten. \nGemeinsam meistern wir hier erste Steigungen\, Rampen\, Sprünge und Drehungen. Dabei gehen wir individuell auf dein Level ein – egal\, ob du gerade erst loslegst oder deine Skills aufs nächste Level bringen willst. Unser Ziel: Du sollst dich sicher und frei im Park bewegen und mit jeder Session ein Stück mehr über dich hinauswachsen. \nWenn du keine Stunt-Skates besitzt\, du diese aber mal gerne ausprobieren möchtest\, gib uns bei Anmeldung kurz Bescheid und wir stellen dir kostenlos welche zur Verfügung.  \nDu bist dir unsicher\, ob der Kurs etwas für dich ist – dann sprich uns an!  \nKursform: Gruppenkurs bis ca. 10 Personen\nInhalte: Der Kurs richtet sich an Anfänger*innen und leicht Fortgeschrittene.\nVorraussetzung: Sicheres und eigenständiges Vorwärtsfahren.\nPreis: Der Eigenanteil beträgt 5\,00 € je Termin. \nAnmeldung: info@stuntskate.de oder über unser Kontaktformular 
URL:https://stuntskate.de/en/kursplan/hueckelhoven-halden-heights-3/
LOCATION:Hückelhoven – „Halden Heights“\, Am Landabsatz 10\, Hückelhoven\, NRW\, 41836\, Germany
END:VEVENT
BEGIN:VEVENT
DTSTART;TZID=Europe/Berlin:20250621T100000
DTEND;TZID=Europe/Berlin:20250621T120000
DTSTAMP:20260424T155248
CREATED:20250506T111645Z
LAST-MODIFIED:20250610T072656Z
UID:1040-1750500000-1750507200@stuntskate.de
SUMMARY:Hückelhoven - „Halden Heights“ (Keine freien Plätze mehr))
DESCRIPTION:Wenn dir einfach „nur“ Inline-Skaten zu langweilig ist und vorwärtsfahren Fahren für dich eine Leichtigkeit ist – dann ist der Kurs definitiv das Richtige für dich.  \nDer „Halden Heights“ ist ein moderner Jugend- und Sportpark in Hückelhoven\, Nordrhein-Westfalen\, Auf rund 4.000 Quadratmetern Fläche bietet die Anlage vielfältige Möglichkeiten für sportliche Aktivitäten. \nGemeinsam meistern wir hier erste Steigungen\, Rampen\, Sprünge und Drehungen. Dabei gehen wir individuell auf dein Level ein – egal\, ob du gerade erst loslegst oder deine Skills aufs nächste Level bringen willst. Unser Ziel: Du sollst dich sicher und frei im Park bewegen und mit jeder Session ein Stück mehr über dich hinauswachsen. \nWenn du keine Stunt-Skates besitzt\, du diese aber mal gerne ausprobieren möchtest\, gib uns bei Anmeldung kurz Bescheid und wir stellen dir kostenlos welche zur Verfügung.  \nDu bist dir unsicher\, ob der Kurs etwas für dich ist – dann sprich uns an!  \nKursform: Gruppenkurs bis ca. 10 Personen\nInhalte: Der Kurs richtet sich an Anfänger*innen und leicht Fortgeschrittene.\nVorraussetzung: Sicheres und eigenständiges Vorwärtsfahren.\nPreis: Der Eigenanteil beträgt 5\,00 € je Termin. \nAnmeldung: info@stuntskate.de oder über unser Kontaktformular 
URL:https://stuntskate.de/en/kursplan/hueckelhoven-halden-heights-2/
LOCATION:Hückelhoven – „Halden Heights“\, Am Landabsatz 10\, Hückelhoven\, NRW\, 41836\, Germany
END:VEVENT
BEGIN:VEVENT
DTSTART;TZID=Europe/Berlin:20250525T090000
DTEND;TZID=Europe/Berlin:20250525T123000
DTSTAMP:20260424T155248
CREATED:20250426T161819Z
LAST-MODIFIED:20250426T172655Z
UID:815-1748163600-1748176200@stuntskate.de
SUMMARY:Wuppertal – Skatehalle WickedWoods
DESCRIPTION:Wenn dir einfach „nur“ Inline-Skaten zu langweilig ist und vorwärtsfahren Fahren für dich eine Leichtigkeit ist – dann ist der Kurs definitiv das Richtige für dich. \nWir haben in einer der traditionellsten Skatehalle im Umkreis der WickedWoods\, die Möglichkeit mit dir gemeinsam die ersten Steigungen\, Rampen\, Sprünge und Drehungen zu meistern. Dabei gehen wir individuell auf deine Fähigkeiten ein und haben das Ziel\, dass du sicher durch den Skatepark heizen kannst. \nIm Fokus stehen die Anfänge für das „richtige“ Skatepark-Fahren mit Rampen\, Copings\, Walls\, Bowl und Ledge. \nWenn du keine Stunt-Skates besitzt\, du diese aber mal gerne ausprobieren möchtest\, gib uns bei Anmeldung kurz Bescheid und wir stellen dir kostenlos welche zur Verfügung. \nDu bist dir unsicher\, ob der Kurs etwas für dich ist – dann sprich uns an! \nKursform: Gruppenkurs bis ca. 12 Personen\nInhalte: Einstieg in das Stuntskaten und Erlernen der ersten Basis-Techniken und Tricks.\nVorraussetzung: Sicheres und eigenständiges Vorwärtsfahren.\nPreis: 59\,00 € je Termin (Bar-Zahlung vor Ort bei der WickedWoods)\nAnmeldung: info@stuntskate.de oder über unser Kontaktformular \nHinweis: Wir\, als StuntSkate.de verwalten die Anmeldung für die Blader Kurse der Skatehalle WickedWoods für einen direkteren und schnelleren Anmeldevorgang. Es gelten die AGBs der Skatehalle WickedWoods.
URL:https://stuntskate.de/en/kursplan/wuppertal-skatehalle-wickedwoods/
LOCATION:Skatehalle WickedWoods\, Langobardenstraße 65\, Wuppertal Oberbarmen\, NRW\, 42277\, Germany
END:VEVENT
BEGIN:VEVENT
DTSTART;TZID=Europe/Berlin:20250524T100000
DTEND;TZID=Europe/Berlin:20250524T120000
DTSTAMP:20260424T155248
CREATED:20250426T164704Z
LAST-MODIFIED:20250426T172851Z
UID:829-1748080800-1748088000@stuntskate.de
SUMMARY:Hückelhoven - „Halden Heights“
DESCRIPTION:Wenn dir einfach „nur“ Inline-Skaten zu langweilig ist und vorwärtsfahren Fahren für dich eine Leichtigkeit ist – dann ist der Kurs definitiv das Richtige für dich.  \nDer „Halden Heights“ ist ein moderner Jugend- und Sportpark in Hückelhoven\, Nordrhein-Westfalen\, Auf rund 4.000 Quadratmetern Fläche bietet die Anlage vielfältige Möglichkeiten für sportliche Aktivitäten. \nGemeinsam meistern wir hier erste Steigungen\, Rampen\, Sprünge und Drehungen. Dabei gehen wir individuell auf dein Level ein – egal\, ob du gerade erst loslegst oder deine Skills aufs nächste Level bringen willst. Unser Ziel: Du sollst dich sicher und frei im Park bewegen und mit jeder Session ein Stück mehr über dich hinauswachsen. \nWenn du keine Stunt-Skates besitzt\, du diese aber mal gerne ausprobieren möchtest\, gib uns bei Anmeldung kurz Bescheid und wir stellen dir kostenlos welche zur Verfügung.  \nDu bist dir unsicher\, ob der Kurs etwas für dich ist – dann sprich uns an!  \nKursform: Gruppenkurs bis ca. 10 Personen\nInhalte: Der Kurs richtet sich an Anfänger*innen und leicht Fortgeschrittene.\nVorraussetzung: Sicheres und eigenständiges Vorwärtsfahren.\nPreis: Der Eigenanteil beträgt 5\,00 € je Termin. \nAnmeldung: info@stuntskate.de oder über unser Kontaktformular 
URL:https://stuntskate.de/en/kursplan/hueckelhoven-halden-heights/
LOCATION:Hückelhoven – „Halden Heights“\, Am Landabsatz 10\, Hückelhoven\, NRW\, 41836\, Germany
END:VEVENT
END:VCALENDAR