BEGIN:VCALENDAR
VERSION:2.0
PRODID:-//stuntskate.de - ECPv6.15.20//NONSGML v1.0//EN
CALSCALE:GREGORIAN
METHOD:PUBLISH
X-WR-CALNAME:stuntskate.de
X-ORIGINAL-URL:https://stuntskate.de
X-WR-CALDESC:Veranstaltungen für stuntskate.de
REFRESH-INTERVAL;VALUE=DURATION:PT1H
X-Robots-Tag:noindex
X-PUBLISHED-TTL:PT1H
BEGIN:VTIMEZONE
TZID:Europe/Berlin
BEGIN:DAYLIGHT
TZOFFSETFROM:+0100
TZOFFSETTO:+0200
TZNAME:CEST
DTSTART:20250330T010000
END:DAYLIGHT
BEGIN:STANDARD
TZOFFSETFROM:+0200
TZOFFSETTO:+0100
TZNAME:CET
DTSTART:20251026T010000
END:STANDARD
BEGIN:DAYLIGHT
TZOFFSETFROM:+0100
TZOFFSETTO:+0200
TZNAME:CEST
DTSTART:20260329T010000
END:DAYLIGHT
BEGIN:STANDARD
TZOFFSETFROM:+0200
TZOFFSETTO:+0100
TZNAME:CET
DTSTART:20261025T010000
END:STANDARD
BEGIN:DAYLIGHT
TZOFFSETFROM:+0100
TZOFFSETTO:+0200
TZNAME:CEST
DTSTART:20270328T010000
END:DAYLIGHT
BEGIN:STANDARD
TZOFFSETFROM:+0200
TZOFFSETTO:+0100
TZNAME:CET
DTSTART:20271031T010000
END:STANDARD
END:VTIMEZONE
BEGIN:VEVENT
DTSTART;TZID=Europe/Berlin:20260308T090000
DTEND;TZID=Europe/Berlin:20260308T123000
DTSTAMP:20260424T154155
CREATED:20251103T074106Z
LAST-MODIFIED:20260118T081225Z
UID:1329-1772960400-1772973000@stuntskate.de
SUMMARY:Wuppertal – Skatehalle WickedWoods (ausgebucht)
DESCRIPTION:Inline-Skaten Kurs in Wuppertal – Rampen\, Sprünge & Skatepark-Fahren lernen\nWenn dir einfach „nur“ Inline-Skaten zu langweilig ist und du dich beim Vorwärtsfahren schon sicher fühlst\, ist dieser Kurs genau das Richtige für dich!In der traditionsreichen Skatehalle WickedWoods in Wuppertal lernst du gemeinsam mit erfahrenen Trainer*innen\, wie du erste Steigungen\, Rampen\, Sprünge und Drehungen meisterst. \nWir zeigen dir den Einstieg ins „richtige“ Skatepark-Fahren – mit Rampen\, Copings\, Walls\, Bowl und Ledge. Unser Ziel: Du sollst dich sicher und mit Spaß durch den Skatepark bewegen und dein Können auf das nächste Level bringen. \nOb Anfängerin oder Fortgeschrittener – wir gehen individuell auf deine Fähigkeiten ein und helfen dir\, dein Selbstvertrauen auf den Skates zu stärken. \n👉 Tipp: Wenn du keine Stunt-Skates besitzt\, stellen wir dir kostenlos welche zur Verfügung! Gib uns einfach bei der Anmeldung kurz Bescheid. \n\n📅 Kursinformationen:\nOrt: Skatehalle WickedWoods\, Wuppertal\nKursform: Gruppenkurs (max. 15 Personen)\nGeeignet für: Anfänger*innen & Fortgeschrittene\nInhalte: Steigungen\, Rampen\, Sprünge\, Drehungen\, Flips & Grinds\nVoraussetzung: Sicheres Vorwärtsfahren\nPreis: 59\,00 € pro Termin (Bar-/Kartenzahlung vor Ort bei WickedWoods)\nAnmeldung: info@stuntskate.de oder über unser Kontaktformular \n\nℹ️ Hinweis:\nHinweis: Wir\, als StuntSkate.de verwalten die Anmeldung für die Blader Kurse der Skatehalle WickedWoods für einen direkteren und schnelleren Anmeldevorgang. Es gelten die AGBs der Skatehalle WickedWoods.
URL:https://stuntskate.de/kursplan/wuppertal-skatehalle-wickedwoods-4/
LOCATION:Skatehalle WickedWoods\, Langobardenstraße 65\, Wuppertal Oberbarmen\, NRW\, 42277\, Germany
END:VEVENT
END:VCALENDAR