BEGIN:VCALENDAR
VERSION:2.0
PRODID:-//stuntskate.de - ECPv6.15.20//NONSGML v1.0//EN
CALSCALE:GREGORIAN
METHOD:PUBLISH
X-WR-CALNAME:stuntskate.de
X-ORIGINAL-URL:https://stuntskate.de
X-WR-CALDESC:Veranstaltungen für stuntskate.de
REFRESH-INTERVAL;VALUE=DURATION:PT1H
X-Robots-Tag:noindex
X-PUBLISHED-TTL:PT1H
BEGIN:VTIMEZONE
TZID:Europe/Berlin
BEGIN:DAYLIGHT
TZOFFSETFROM:+0100
TZOFFSETTO:+0200
TZNAME:CEST
DTSTART:20250330T010000
END:DAYLIGHT
BEGIN:STANDARD
TZOFFSETFROM:+0200
TZOFFSETTO:+0100
TZNAME:CET
DTSTART:20251026T010000
END:STANDARD
BEGIN:DAYLIGHT
TZOFFSETFROM:+0100
TZOFFSETTO:+0200
TZNAME:CEST
DTSTART:20260329T010000
END:DAYLIGHT
BEGIN:STANDARD
TZOFFSETFROM:+0200
TZOFFSETTO:+0100
TZNAME:CET
DTSTART:20261025T010000
END:STANDARD
BEGIN:DAYLIGHT
TZOFFSETFROM:+0100
TZOFFSETTO:+0200
TZNAME:CEST
DTSTART:20270328T010000
END:DAYLIGHT
BEGIN:STANDARD
TZOFFSETFROM:+0200
TZOFFSETTO:+0100
TZNAME:CET
DTSTART:20271031T010000
END:STANDARD
END:VTIMEZONE
BEGIN:VEVENT
DTSTART;TZID=Europe/Berlin:20260906T110000
DTEND;TZID=Europe/Berlin:20260906T130000
DTSTAMP:20260425T033456
CREATED:20251103T083934Z
LAST-MODIFIED:20251103T084302Z
UID:1350-1788692400-1788699600@stuntskate.de
SUMMARY:Hückelhoven - „Halden Heights“
DESCRIPTION:Inline-Skaten Kurs in Hückelhoven – Rampen\, Sprünge & Tricks lernen\nWenn dir einfach „nur“ Inline-Skaten zu langweilig ist und Vorwärtsfahren für dich keine Herausforderung mehr ist\, dann ist dieser Kurs genau das Richtige für dich! \nDer Halden Heights Park in Hückelhoven (NRW) ist ein moderner Jugend- und Sportpark mit rund 4.000 Quadratmetern Fläche – perfekt für sportliche Action\, neue Tricks und jede Menge Spaß auf Skates. \nGemeinsam meistern wir hier erste Steigungen\, Rampen\, Sprünge und Drehungen. Wir gehen individuell auf dein Level ein – egal\, ob du gerade erst anfängst oder deine Skills auf das nächste Level bringen willst.Unser Ziel: Du sollst dich sicher und frei im Skatepark bewegen und mit jeder Session über dich hinauswachsen. \nWenn du keine Stunt-Skates besitzt\, aber Lust hast\, es einmal auszuprobieren\, gib uns einfach bei der Anmeldung kurz Bescheid – wir stellen dir kostenlos welche zur Verfügung. \nDu bist dir unsicher\, ob der Kurs etwas für dich ist? Kein Problem – sprich uns gerne an! \nOb Anfängerin oder Fortgeschrittener – wir gehen individuell auf deine Fähigkeiten ein und helfen dir\, dein Selbstvertrauen auf den Skates zu stärken. \n👉 Tipp: Wenn du keine Stunt-Skates besitzt\, stellen wir dir kostenlos welche zur Verfügung! Gib uns einfach bei der Anmeldung kurz Bescheid. \n\n📅 Kursinformationen\nOrt: Halden Heights Park\, Hückelhoven\, Nordrhein-Westfalen\nKursform: Gruppenkurs bis Max. 15 Personen\nGeeignet für: Anfänger*innen & Fortgeschrittene\nInhalte: Steigungen\, Rampen\, Sprünge\, Drehungen\, Flips & Grinds\nVoraussetzung: Sicheres und eigenständiges Vorwärtsfahren\nPreis: Kostenlose Teilnahme – ein herzliches Dankeschön an die Stadt Hückelhoven für die Unterstützung\nAnmeldung: info@stuntskate.de oder über unser Kontaktformular 
URL:https://stuntskate.de/kursplan/hueckelhoven-halden-heights-9/
LOCATION:Hückelhoven – „Halden Heights“\, Am Landabsatz 10\, Hückelhoven\, NRW\, 41836\, Germany
END:VEVENT
END:VCALENDAR